BEGIN:VCALENDAR
VERSION:2.0
PRODID:-//Boulder Dance Coalition - ECPv5.10.1//NONSGML v1.0//EN
CALSCALE:GREGORIAN
METHOD:PUBLISH
X-WR-CALNAME:Boulder Dance Coalition
X-ORIGINAL-URL:https://boulderdance.org
X-WR-CALDESC:Events for Boulder Dance Coalition
BEGIN:VTIMEZONE
TZID:America/Denver
BEGIN:DAYLIGHT
TZOFFSETFROM:-0700
TZOFFSETTO:-0600
TZNAME:MDT
DTSTART:20250309T090000
END:DAYLIGHT
BEGIN:STANDARD
TZOFFSETFROM:-0600
TZOFFSETTO:-0700
TZNAME:MST
DTSTART:20251102T080000
END:STANDARD
END:VTIMEZONE
BEGIN:VEVENT
DTSTART;TZID=America/Denver:20251208T200000
DTEND;TZID=America/Denver:20251208T210000
DTSTAMP:20260425T093339
CREATED:20251111T040242Z
LAST-MODIFIED:20251111T040242Z
UID:69486-1765224000-1765227600@boulderdance.org
SUMMARY:Solo Jazz and Shim Sham Variations
DESCRIPTION:The Shim Sham is an iconic solo jazz and tap line dance\, choreographed by black American artists in 1928. It’s now collectively performed at every Lindy Hop social dance worldwide. The choreography is very accessible\, and if you know it\, you can jump in and immediately be part of community\, history\, and good times on the dance floor with your friends! \n  \nBreak your Shim Sham and solo jazz steps in this drop-in class! We’ll quickly review some content from the prior week’s Learn the Shim Sham course\, and then explore more complex Shim Sham variations\, improvisation\, and creativity. We’ll not only learn suggested variations\, but how to create variations of your own! This will ultimately level up skills and joy that you can bring to both your solo and partnered dancing. \nDate: Monday\, December 8 \nTime: 8-9 p.m.\nPrerequisites: Familiarity (not necessarily mastery!) with the Shim Sham routine\nInstructors: Jill Cohen \n*We strive to make our classes as inclusive and accessible as possible. If this cost is prohibitive\, please email boulderlindyhop@gmail.com. \nRegister: https://www.boulderswingdance.com/swingshop/elective-solo-variations
URL:https://boulderdance.org/event/solo-jazz-and-shim-sham-variations-2/
LOCATION:Avalon Ballroom\, 6185 Arapahoe Rd\, Boulder\, CO\, 80303\, United States
ORGANIZER;CN="Boulder%20Swing%20Dance":MAILTO:boulderlindyhop@gmail.com
GEO:40.0154247;-105.2089034
X-APPLE-STRUCTURED-LOCATION;VALUE=URI;X-ADDRESS=Avalon Ballroom 6185 Arapahoe Rd Boulder CO 80303 United States;X-APPLE-RADIUS=500;X-TITLE=6185 Arapahoe Rd:geo:-105.2089034,40.0154247
END:VEVENT
END:VCALENDAR