BEGIN:VCALENDAR
VERSION:2.0
PRODID:-//Boulder Dance Coalition - ECPv5.10.1//NONSGML v1.0//EN
CALSCALE:GREGORIAN
METHOD:PUBLISH
X-WR-CALNAME:Boulder Dance Coalition
X-ORIGINAL-URL:https://boulderdance.org
X-WR-CALDESC:Events for Boulder Dance Coalition
BEGIN:VTIMEZONE
TZID:America/Denver
BEGIN:DAYLIGHT
TZOFFSETFROM:-0700
TZOFFSETTO:-0600
TZNAME:MDT
DTSTART:20260308T090000
END:DAYLIGHT
BEGIN:STANDARD
TZOFFSETFROM:-0600
TZOFFSETTO:-0700
TZNAME:MST
DTSTART:20261101T080000
END:STANDARD
END:VTIMEZONE
BEGIN:VEVENT
DTSTART;TZID=America/Denver:20260310T190000
DTEND;TZID=America/Denver:20260310T213000
DTSTAMP:20260422T021721
CREATED:20260220T201127Z
LAST-MODIFIED:20260220T201127Z
UID:71368-1773169200-1773178200@boulderdance.org
SUMMARY:Skate Prom
DESCRIPTION:This is the prom you’ve been waiting for!  \nWear your favorite prom attire – whatever that means to YOU. Bring your friends\, that special someone\, or just yourself! \n\nThe best prom hits of the 80s\, 90s\, 2000s & beyond\nAmazing prom decor & ambience to make your evening magical\nPhoto Booth to keep your Skate Prom memories alive forever\nTuesday\, March 10th\, 7:00-9:30 pm\n$18 admission\, online or cash/card/Venmo at door\n$6 skate rentals by advance online reservation\nThis is a sober-friendly event\, no alcohol on-site\nAdults only\, 18+\nEmbellish your Skate Prom style with corsages & boutonnieres by local small business\, Uproot Florist. Limited quantities – order yours now!
URL:https://boulderdance.org/event/skate-prom/
LOCATION:Avalon Ballroom\, 6185 Arapahoe Rd\, Boulder\, CO\, 80303\, United States
CATEGORIES:Special Events
ORGANIZER;CN="SK8D8":MAILTO:info@sk8d8.com
GEO:40.0154247;-105.2089034
X-APPLE-STRUCTURED-LOCATION;VALUE=URI;X-ADDRESS=Avalon Ballroom 6185 Arapahoe Rd Boulder CO 80303 United States;X-APPLE-RADIUS=500;X-TITLE=6185 Arapahoe Rd:geo:-105.2089034,40.0154247
END:VEVENT
END:VCALENDAR