BEGIN:VCALENDAR
VERSION:2.0
PRODID:-//Boulder Dance Coalition - ECPv5.10.1//NONSGML v1.0//EN
CALSCALE:GREGORIAN
METHOD:PUBLISH
X-WR-CALNAME:Boulder Dance Coalition
X-ORIGINAL-URL:https://boulderdance.org
X-WR-CALDESC:Events for Boulder Dance Coalition
BEGIN:VTIMEZONE
TZID:America/Denver
BEGIN:DAYLIGHT
TZOFFSETFROM:-0700
TZOFFSETTO:-0600
TZNAME:MDT
DTSTART:20260308T090000
END:DAYLIGHT
BEGIN:STANDARD
TZOFFSETFROM:-0600
TZOFFSETTO:-0700
TZNAME:MST
DTSTART:20261101T080000
END:STANDARD
END:VTIMEZONE
BEGIN:VEVENT
DTSTART;TZID=America/Denver:20260110T163000
DTEND;TZID=America/Denver:20260110T183000
DTSTAMP:20260423T113526
CREATED:20251215T033906Z
LAST-MODIFIED:20251215T034214Z
UID:70553-1768062600-1768069800@boulderdance.org
SUMMARY:English Country Dance
DESCRIPTION:English Country Dance is a fun\, friendly\, community form of dance that originated in England during the Renaissance (if not even earlier!). All dances will be taught and will be suitable for first-time dancers.  Sliding scale admission of $5 to $15.  Come for the English Country Dance\, and stay for the Zesty Contra Dance which follows at 7 p.m.
URL:https://boulderdance.org/event/english-country-dance-4/
LOCATION:Avalon Tango Studio\, 6185 Arapahoe Av\, Boulder\, CO\, 80303\, United States
CATEGORIES:Special Events
ORGANIZER;CN="Colorado%20Friends%20of%20Old%20Time%20Music%20and%20Dance":MAILTO:trazz@indra.com
GEO:40.014763;-105.2090857
X-APPLE-STRUCTURED-LOCATION;VALUE=URI;X-ADDRESS=Avalon Tango Studio 6185 Arapahoe Av Boulder CO 80303 United States;X-APPLE-RADIUS=500;X-TITLE=6185 Arapahoe Av:geo:-105.2090857,40.014763
END:VEVENT
END:VCALENDAR