BEGIN:VCALENDAR
VERSION:2.0
PRODID:-//Boulder Dance Coalition - ECPv5.10.1//NONSGML v1.0//EN
CALSCALE:GREGORIAN
METHOD:PUBLISH
X-WR-CALNAME:Boulder Dance Coalition
X-ORIGINAL-URL:https://boulderdance.org
X-WR-CALDESC:Events for Boulder Dance Coalition
BEGIN:VTIMEZONE
TZID:America/Denver
BEGIN:DAYLIGHT
TZOFFSETFROM:-0700
TZOFFSETTO:-0600
TZNAME:MDT
DTSTART:20260308T090000
END:DAYLIGHT
BEGIN:STANDARD
TZOFFSETFROM:-0600
TZOFFSETTO:-0700
TZNAME:MST
DTSTART:20261101T080000
END:STANDARD
END:VTIMEZONE
BEGIN:VEVENT
DTSTART;TZID=America/Denver:20260425T190000
DTEND;TZID=America/Denver:20260425T235900
DTSTAMP:20260420T073616
CREATED:20230123T203837Z
LAST-MODIFIED:20260420T053232Z
UID:64756-1777143600-1777161540@boulderdance.org
SUMMARY:Lindy Hop Dance with Live Music
DESCRIPTION:Join Boulder Swing Dance and CMDance for a social dance party from 8-11 p.m. in Sodal Hall. \nThis dance is part of the Intercollegiate Swing Battle workshop weekend. Buy tickets at the door or in advance. A drop-in beginner lesson from 7-8 p.m. is included in the cost of admission. \n\nIntercollegiate Swing Battle 2026
URL:https://boulderdance.org/event/boulder-swing-social-dance-lindy-hop-djed-3-2026-04-25/
LOCATION:Avalon Sodal Hall\, 6185 Arapahoe Rd\, Boulder\, CO\, United States
CATEGORIES:Special Events
ORGANIZER;CN="Boulder%20Swing%20Dance":MAILTO:boulderlindyhop@gmail.com
GEO:40.0154247;-105.2089034
X-APPLE-STRUCTURED-LOCATION;VALUE=URI;X-ADDRESS=Avalon Sodal Hall 6185 Arapahoe Rd Boulder CO United States;X-APPLE-RADIUS=500;X-TITLE=6185 Arapahoe Rd:geo:-105.2089034,40.0154247
END:VEVENT
END:VCALENDAR