BEGIN:VCALENDAR
VERSION:2.0
PRODID:-//Boulder Dance Coalition - ECPv5.10.1//NONSGML v1.0//EN
CALSCALE:GREGORIAN
METHOD:PUBLISH
X-WR-CALNAME:Boulder Dance Coalition
X-ORIGINAL-URL:https://boulderdance.org
X-WR-CALDESC:Events for Boulder Dance Coalition
BEGIN:VTIMEZONE
TZID:America/Denver
BEGIN:DAYLIGHT
TZOFFSETFROM:-0700
TZOFFSETTO:-0600
TZNAME:MDT
DTSTART:20250309T090000
END:DAYLIGHT
BEGIN:STANDARD
TZOFFSETFROM:-0600
TZOFFSETTO:-0700
TZNAME:MST
DTSTART:20251102T080000
END:STANDARD
END:VTIMEZONE
BEGIN:VEVENT
DTSTART;TZID=America/Denver:20250321T203000
DTEND;TZID=America/Denver:20250321T204500
DTSTAMP:20260422T035013
CREATED:20250202T052442Z
LAST-MODIFIED:20250305T174953Z
UID:63273-1742589000-1742589900@boulderdance.org
SUMMARY:BIFD Annual Meeting
DESCRIPTION:BIFD Annual Meeting with election of Members of the Board. \nLasts 15-20 minutes at 8:30 or so\, after teaching. \nhttps://www.boulderfolkdancers.org/
URL:https://boulderdance.org/event/bifd-annual-meeting/
LOCATION:Avalon Sodal Hall\, 6185 Arapahoe Rd\, Boulder\, CO\, United States
CATEGORIES:Special Events
ATTACH;FMTTYPE=image/jpeg:https://boulderdance.org/wp-content/uploads/2025/02/Annual-Meeting-2025-scaled.jpg
ORGANIZER;CN="Boulder%20International%20Folk%20Dancers":MAILTO:president@boulderfolkdancers.org
GEO:40.0154247;-105.2089034
X-APPLE-STRUCTURED-LOCATION;VALUE=URI;X-ADDRESS=Avalon Sodal Hall 6185 Arapahoe Rd Boulder CO United States;X-APPLE-RADIUS=500;X-TITLE=6185 Arapahoe Rd:geo:-105.2089034,40.0154247
END:VEVENT
END:VCALENDAR