BEGIN:VCALENDAR
VERSION:2.0
PRODID:-//Boulder Dance Coalition - ECPv5.10.1//NONSGML v1.0//EN
CALSCALE:GREGORIAN
METHOD:PUBLISH
X-WR-CALNAME:Boulder Dance Coalition
X-ORIGINAL-URL:https://boulderdance.org
X-WR-CALDESC:Events for Boulder Dance Coalition
BEGIN:VTIMEZONE
TZID:America/Denver
BEGIN:DAYLIGHT
TZOFFSETFROM:-0700
TZOFFSETTO:-0600
TZNAME:MDT
DTSTART:20250309T090000
END:DAYLIGHT
BEGIN:STANDARD
TZOFFSETFROM:-0600
TZOFFSETTO:-0700
TZNAME:MST
DTSTART:20251102T080000
END:STANDARD
END:VTIMEZONE
BEGIN:VEVENT
DTSTART;TZID=America/Denver:20251208T184500
DTEND;TZID=America/Denver:20251208T194500
DTSTAMP:20260425T062828
CREATED:20251111T034043Z
LAST-MODIFIED:20251111T034043Z
UID:69478-1765219500-1765223100@boulderdance.org
SUMMARY:Beginning Bal-Swing
DESCRIPTION:Balboa is a swing dance that emerged in Southern California during the early 1930s. It is an upright dance that features rhythmic footwork and is often danced to fast tempos. This is the second of two beginning balboa classes. This beginning balboa class will focus on open position steps in balboa\, known as bal-swing\, and will teach different steps than the first class. Participants do not need to take the pure balboa class to take the bal-swing class. We will introduce the basic rhythms and transitions into lollies and turns. \nTeacher: Heather Ballew \nDate: Monday\, December 8 \nTime: 6:45-7:45 p.m.\nPrerequisites: None\nCost: $15 \n*We strive to make our classes as inclusive and accessible as possible. If this cost is prohibitive\, please email boulderlindyhop@gmail.com. \nRegister:https://www.boulderswingdance.com/swingshop/elective-balswing
URL:https://boulderdance.org/event/beginning-bal-swing/
LOCATION:Avalon Ballroom\, 6185 Arapahoe Rd\, Boulder\, CO\, 80303\, United States
ORGANIZER;CN="Boulder%20Swing%20Dance":MAILTO:boulderlindyhop@gmail.com
GEO:40.0154247;-105.2089034
X-APPLE-STRUCTURED-LOCATION;VALUE=URI;X-ADDRESS=Avalon Ballroom 6185 Arapahoe Rd Boulder CO 80303 United States;X-APPLE-RADIUS=500;X-TITLE=6185 Arapahoe Rd:geo:-105.2089034,40.0154247
END:VEVENT
END:VCALENDAR