BEGIN:VCALENDAR
VERSION:2.0
PRODID:-//Boulder Dance Coalition - ECPv5.10.1//NONSGML v1.0//EN
CALSCALE:GREGORIAN
METHOD:PUBLISH
X-WR-CALNAME:Boulder Dance Coalition
X-ORIGINAL-URL:https://boulderdance.org
X-WR-CALDESC:Events for Boulder Dance Coalition
BEGIN:VTIMEZONE
TZID:America/Denver
BEGIN:DAYLIGHT
TZOFFSETFROM:-0700
TZOFFSETTO:-0600
TZNAME:MDT
DTSTART:20260308T090000
END:DAYLIGHT
BEGIN:STANDARD
TZOFFSETFROM:-0600
TZOFFSETTO:-0700
TZNAME:MST
DTSTART:20261101T080000
END:STANDARD
END:VTIMEZONE
BEGIN:VEVENT
DTSTART;TZID=America/Denver:20260114T193000
DTEND;TZID=America/Denver:20260114T204500
DTSTAMP:20260424T100402
CREATED:20240123T220514Z
LAST-MODIFIED:20240123T220514Z
UID:70641-1768419000-1768423500@boulderdance.org
SUMMARY:Adv-Int Cuban Rueda de Casino with Salsaville Dance
DESCRIPTION:Advanced-Intermediate Cuban Rueda de Casino \nThis class is intended for people are familiar with the fundamentals of Casino. \nCasino is very different from other salsa styles\, and is more circular in nature and often more playful. \nIn this class we will continue with more complex Casino style turn patterns\, and continue to explore concepts\, feeling\, etc. of what makes dancing Cuban style different than the other styles. \nEric “El Cubanito” Freeman has traveled to Cuba 33 times spending over 34 months studying Cuban style salsa\, and has produced the world’s best known instructional video series on Cuban style dancing\, “¡Salsa a la Cubana!” \nWe will cover: \n\nVacilala con engaño\nEarly Vacilala\nCuban Lead & Follow concepts\nThe circular nature of Cuban Casino\nand much more …
URL:https://boulderdance.org/event/advanced-intermediate-cuban-salsa/2026-01-14/
LOCATION:Avalon Tango Studio\, 6185 Arapahoe Av\, Boulder\, CO\, 80303\, United States
ORGANIZER;CN="Salsaville%20Dance%20Studios":MAILTO:eric@salsaville.com
GEO:40.014763;-105.2090857
X-APPLE-STRUCTURED-LOCATION;VALUE=URI;X-ADDRESS=Avalon Tango Studio 6185 Arapahoe Av Boulder CO 80303 United States;X-APPLE-RADIUS=500;X-TITLE=6185 Arapahoe Av:geo:-105.2090857,40.014763
END:VEVENT
END:VCALENDAR