BEGIN:VCALENDAR
VERSION:2.0
PRODID:-//Boulder Dance Coalition - ECPv5.10.1//NONSGML v1.0//EN
CALSCALE:GREGORIAN
METHOD:PUBLISH
X-WR-CALNAME:Boulder Dance Coalition
X-ORIGINAL-URL:https://boulderdance.org
X-WR-CALDESC:Events for Boulder Dance Coalition
BEGIN:VTIMEZONE
TZID:America/Denver
BEGIN:DAYLIGHT
TZOFFSETFROM:-0700
TZOFFSETTO:-0600
TZNAME:MDT
DTSTART:20260308T090000
END:DAYLIGHT
BEGIN:STANDARD
TZOFFSETFROM:-0600
TZOFFSETTO:-0700
TZNAME:MST
DTSTART:20261101T080000
END:STANDARD
END:VTIMEZONE
BEGIN:VEVENT
DTSTART;TZID=America/Denver:20260131T183000
DTEND;TZID=America/Denver:20260131T230000
DTSTAMP:20260423T034102
CREATED:20251117T021033Z
LAST-MODIFIED:20251117T022556Z
UID:69553-1769884200-1769900400@boulderdance.org
SUMMARY:14th Annual Mardi Gras Dance and Fundraiser!
DESCRIPTION:Come to this fun dance with a great Zydeco band from Louisiana\, a Zydeco dance lesson\, costume contest\, Mardi Gras beads\, Tarot Card and Astrology readings\, Face Painting and complimentary King Cake. Purchase some Gumbo to satisfy your appetite and visit the Cash bar to quench your thirst! Proceeds help support the non-profit local community radio station KGNU\, and the non-profit Colorado Friends of Cajun and Zydeco Music and Dance. Tickets available through KGNU.org or at the door. Early Bird price $40 through Jan 8th\, Advanced ticket price $45 through Jan 30th\, $50 at the door. Reserved Kingfish tables for 6 are only $240! Doors open @ 6:30\, Dance Lesson @ 7:15\, Music 8-11pm
URL:https://boulderdance.org/event/14th-annual-mardi-gras-dance-and-fundraiser/
LOCATION:Avalon Ballroom\, 6185 Arapahoe Rd\, Boulder\, CO\, 80303\, United States
CATEGORIES:Special Events
ORGANIZER;CN="Colorado%20Friends%20of%20Cajun%20and%20Zydeco%20%28CFCZ%29":MAILTO:dwillging@mail.com
GEO:40.0154247;-105.2089034
X-APPLE-STRUCTURED-LOCATION;VALUE=URI;X-ADDRESS=Avalon Ballroom 6185 Arapahoe Rd Boulder CO 80303 United States;X-APPLE-RADIUS=500;X-TITLE=6185 Arapahoe Rd:geo:-105.2089034,40.0154247
END:VEVENT
END:VCALENDAR